BEGIN:VCALENDAR
VERSION:2.0
PRODID:-//Town of Neenah - ECPv6.15.17.1//NONSGML v1.0//EN
CALSCALE:GREGORIAN
METHOD:PUBLISH
X-WR-CALNAME:Town of Neenah
X-ORIGINAL-URL:https://townofneenah.com
X-WR-CALDESC:Events for Town of Neenah
REFRESH-INTERVAL;VALUE=DURATION:PT1H
X-Robots-Tag:noindex
X-PUBLISHED-TTL:PT1H
BEGIN:VTIMEZONE
TZID:America/Chicago
BEGIN:DAYLIGHT
TZOFFSETFROM:-0600
TZOFFSETTO:-0500
TZNAME:CDT
DTSTART:20170312T080000
END:DAYLIGHT
BEGIN:STANDARD
TZOFFSETFROM:-0500
TZOFFSETTO:-0600
TZNAME:CST
DTSTART:20171105T070000
END:STANDARD
BEGIN:DAYLIGHT
TZOFFSETFROM:-0600
TZOFFSETTO:-0500
TZNAME:CDT
DTSTART:20180311T080000
END:DAYLIGHT
BEGIN:STANDARD
TZOFFSETFROM:-0500
TZOFFSETTO:-0600
TZNAME:CST
DTSTART:20181104T070000
END:STANDARD
BEGIN:DAYLIGHT
TZOFFSETFROM:-0600
TZOFFSETTO:-0500
TZNAME:CDT
DTSTART:20190310T080000
END:DAYLIGHT
BEGIN:STANDARD
TZOFFSETFROM:-0500
TZOFFSETTO:-0600
TZNAME:CST
DTSTART:20191103T070000
END:STANDARD
END:VTIMEZONE
BEGIN:VEVENT
DTSTART;VALUE=DATE:20180528
DTEND;VALUE=DATE:20180529
DTSTAMP:20260421T133525
CREATED:20180515T112154Z
LAST-MODIFIED:20180515T112154Z
UID:10006502-1527465600-1527551999@townofneenah.com
SUMMARY:Memorial Day Holiday - Town Board Meeting Postponed
DESCRIPTION:Town Board meeting for Monday May 28\, 2018 has been postponed and rescheduled for Wednesday May 30\, 2018 at 7:00 pm. \n  \n 
URL:https://townofneenah.com/event/memorial-day-holiday-town-board-meeting-postponed/
CATEGORIES:Town Board
END:VEVENT
END:VCALENDAR