BEGIN:VCALENDAR
VERSION:2.0
PRODID:-//Town of Neenah - ECPv6.15.17.1//NONSGML v1.0//EN
CALSCALE:GREGORIAN
METHOD:PUBLISH
X-WR-CALNAME:Town of Neenah
X-ORIGINAL-URL:https://townofneenah.com
X-WR-CALDESC:Events for Town of Neenah
REFRESH-INTERVAL;VALUE=DURATION:PT1H
X-Robots-Tag:noindex
X-PUBLISHED-TTL:PT1H
BEGIN:VTIMEZONE
TZID:America/Chicago
BEGIN:DAYLIGHT
TZOFFSETFROM:-0600
TZOFFSETTO:-0500
TZNAME:CDT
DTSTART:20170312T080000
END:DAYLIGHT
BEGIN:STANDARD
TZOFFSETFROM:-0500
TZOFFSETTO:-0600
TZNAME:CST
DTSTART:20171105T070000
END:STANDARD
BEGIN:DAYLIGHT
TZOFFSETFROM:-0600
TZOFFSETTO:-0500
TZNAME:CDT
DTSTART:20180311T080000
END:DAYLIGHT
BEGIN:STANDARD
TZOFFSETFROM:-0500
TZOFFSETTO:-0600
TZNAME:CST
DTSTART:20181104T070000
END:STANDARD
BEGIN:DAYLIGHT
TZOFFSETFROM:-0600
TZOFFSETTO:-0500
TZNAME:CDT
DTSTART:20190310T080000
END:DAYLIGHT
BEGIN:STANDARD
TZOFFSETFROM:-0500
TZOFFSETTO:-0600
TZNAME:CST
DTSTART:20191103T070000
END:STANDARD
END:VTIMEZONE
BEGIN:VEVENT
DTSTART;TZID=America/Chicago:20180530T190000
DTEND;TZID=America/Chicago:20180530T200000
DTSTAMP:20260422T054419
CREATED:20180515T112349Z
LAST-MODIFIED:20180515T112349Z
UID:10006503-1527706800-1527710400@townofneenah.com
SUMMARY:Town Board Meeting Wednesday May 30\, 2018
DESCRIPTION:Town Board meeting rescheduled due to Memorial Day Holiday. \n 
URL:https://townofneenah.com/event/town-board-meeting-wednesday-may-30-2018/
CATEGORIES:Town Board
END:VEVENT
END:VCALENDAR