BEGIN:VCALENDAR
VERSION:2.0
PRODID:-//Town of Neenah - ECPv6.15.17.1//NONSGML v1.0//EN
CALSCALE:GREGORIAN
METHOD:PUBLISH
X-WR-CALNAME:Town of Neenah
X-ORIGINAL-URL:https://townofneenah.com
X-WR-CALDESC:Events for Town of Neenah
REFRESH-INTERVAL;VALUE=DURATION:PT1H
X-Robots-Tag:noindex
X-PUBLISHED-TTL:PT1H
BEGIN:VTIMEZONE
TZID:America/Chicago
BEGIN:DAYLIGHT
TZOFFSETFROM:-0600
TZOFFSETTO:-0500
TZNAME:CDT
DTSTART:20220313T080000
END:DAYLIGHT
BEGIN:STANDARD
TZOFFSETFROM:-0500
TZOFFSETTO:-0600
TZNAME:CST
DTSTART:20221106T070000
END:STANDARD
BEGIN:DAYLIGHT
TZOFFSETFROM:-0600
TZOFFSETTO:-0500
TZNAME:CDT
DTSTART:20230312T080000
END:DAYLIGHT
BEGIN:STANDARD
TZOFFSETFROM:-0500
TZOFFSETTO:-0600
TZNAME:CST
DTSTART:20231105T070000
END:STANDARD
BEGIN:DAYLIGHT
TZOFFSETFROM:-0600
TZOFFSETTO:-0500
TZNAME:CDT
DTSTART:20240310T080000
END:DAYLIGHT
BEGIN:STANDARD
TZOFFSETFROM:-0500
TZOFFSETTO:-0600
TZNAME:CST
DTSTART:20241103T070000
END:STANDARD
END:VTIMEZONE
BEGIN:VEVENT
DTSTART;TZID=America/Chicago:20231113T190000
DTEND;TZID=America/Chicago:20231113T200000
DTSTAMP:20260424T182054
CREATED:20231021T125606Z
LAST-MODIFIED:20231115T145138Z
UID:10006692-1699902000-1699905600@townofneenah.com
SUMMARY:Public Hearing and Meeting of the Electors
DESCRIPTION:Agenda  \nSummary Budget  \nBudget Details \nZoom Link: https://us02web.zoom.us/j/84055846989?pwd=clJ5ZWpZOTVGZkxzM2tRMUU2bjJmZz09 \nMeeting ID:  840 5584 6989 \nPasscode: 376975 \nPhone: (312) 626-6799 \n 
URL:https://townofneenah.com/event/public-hearing-and-meeting-of-the-electors/
CATEGORIES:Public Hearing
END:VEVENT
BEGIN:VEVENT
DTSTART;TZID=America/Chicago:20231120T190000
DTEND;TZID=America/Chicago:20231120T200000
DTSTAMP:20260424T182054
CREATED:20231107T102133Z
LAST-MODIFIED:20231107T103447Z
UID:10006984-1700506800-1700510400@townofneenah.com
SUMMARY:Public Hearing 11-20-2023
DESCRIPTION:Agenda  \nPacket  \nZoom Link: https://us02web.zoom.us/j/88539352021?pwd=T0pDRkloU1kzTlFaVUl0ZVpqMSt3dz09 \nMeeting ID:  885 3935 2021 \nPasscode:  355572 \nPhone: 312-626-6799
URL:https://townofneenah.com/event/public-hearing-11-20-2023/
CATEGORIES:Public Hearing
END:VEVENT
END:VCALENDAR