BEGIN:VCALENDAR
VERSION:2.0
PRODID:-//Town of Neenah - ECPv6.15.17.1//NONSGML v1.0//EN
CALSCALE:GREGORIAN
METHOD:PUBLISH
X-WR-CALNAME:Town of Neenah
X-ORIGINAL-URL:https://townofneenah.com
X-WR-CALDESC:Events for Town of Neenah
REFRESH-INTERVAL;VALUE=DURATION:PT1H
X-Robots-Tag:noindex
X-PUBLISHED-TTL:PT1H
BEGIN:VTIMEZONE
TZID:America/Chicago
BEGIN:DAYLIGHT
TZOFFSETFROM:-0600
TZOFFSETTO:-0500
TZNAME:CDT
DTSTART:20140309T080000
END:DAYLIGHT
BEGIN:STANDARD
TZOFFSETFROM:-0500
TZOFFSETTO:-0600
TZNAME:CST
DTSTART:20141102T070000
END:STANDARD
BEGIN:DAYLIGHT
TZOFFSETFROM:-0600
TZOFFSETTO:-0500
TZNAME:CDT
DTSTART:20150308T080000
END:DAYLIGHT
BEGIN:STANDARD
TZOFFSETFROM:-0500
TZOFFSETTO:-0600
TZNAME:CST
DTSTART:20151101T070000
END:STANDARD
BEGIN:DAYLIGHT
TZOFFSETFROM:-0600
TZOFFSETTO:-0500
TZNAME:CDT
DTSTART:20160313T080000
END:DAYLIGHT
BEGIN:STANDARD
TZOFFSETFROM:-0500
TZOFFSETTO:-0600
TZNAME:CST
DTSTART:20161106T070000
END:STANDARD
END:VTIMEZONE
BEGIN:VEVENT
DTSTART;TZID=America/Chicago:20151001T183000
DTEND;TZID=America/Chicago:20151001T183000
DTSTAMP:20260425T163437
CREATED:20151001T233000Z
LAST-MODIFIED:20151001T233000Z
UID:10006395-1443724200-1443724200@townofneenah.com
SUMMARY:Winnebago County Unit of the Wisconsin Towns Association Meeting
DESCRIPTION:Venue: Town of Neenah
URL:https://townofneenah.com/event/winnebago-county-unit-of-the-wisconsin-towns-association-meeting/
CATEGORIES:Town Board
END:VEVENT
BEGIN:VEVENT
DTSTART;TZID=America/Chicago:20151005T190000
DTEND;TZID=America/Chicago:20151005T190000
DTSTAMP:20260425T163437
CREATED:20151006T000000Z
LAST-MODIFIED:20151006T000000Z
UID:10006396-1444071600-1444071600@townofneenah.com
SUMMARY:Parks & Trails Committee
DESCRIPTION:
URL:https://townofneenah.com/event/parks-trails-committee/
CATEGORIES:Park & Trails Committee
END:VEVENT
BEGIN:VEVENT
DTSTART;TZID=America/Chicago:20151006T150000
DTEND;TZID=America/Chicago:20151006T150000
DTSTAMP:20260425T163437
CREATED:20120501T200000Z
LAST-MODIFIED:20120501T200000Z
UID:10005724-1444143600-1444143600@townofneenah.com
SUMMARY:Chairman's Zoning Meeting
DESCRIPTION:Venue: County P&Z
URL:https://townofneenah.com/event/chairmans-zoning-meeting/2015-10-06/
CATEGORIES:Town Board
END:VEVENT
BEGIN:VEVENT
DTSTART;TZID=America/Chicago:20151007T190000
DTEND;TZID=America/Chicago:20151007T190000
DTSTAMP:20260425T163437
CREATED:20130711T000000Z
LAST-MODIFIED:20130711T000000Z
UID:10006264-1444244400-1444244400@townofneenah.com
SUMMARY:Fire Department Business Meeting
DESCRIPTION:
URL:https://townofneenah.com/event/fire-department-business-meeting/2015-10-07/
CATEGORIES:Fire Department
END:VEVENT
BEGIN:VEVENT
DTSTART;TZID=America/Chicago:20151008T090000
DTEND;TZID=America/Chicago:20151008T090000
DTSTAMP:20260425T163437
CREATED:20151008T140000Z
LAST-MODIFIED:20151008T140000Z
UID:10006397-1444294800-1444294800@townofneenah.com
SUMMARY:Budget Workshop
DESCRIPTION:
URL:https://townofneenah.com/event/budget-workshop-2/
CATEGORIES:Town Board
END:VEVENT
BEGIN:VEVENT
DTSTART;TZID=America/Chicago:20151008T091500
DTEND;TZID=America/Chicago:20151008T091500
DTSTAMP:20260425T163437
CREATED:20151008T141500Z
LAST-MODIFIED:20151008T141500Z
UID:10006398-1444295700-1444295700@townofneenah.com
SUMMARY:Storm Water District Budget Workshop
DESCRIPTION:
URL:https://townofneenah.com/event/storm-water-district-budget-workshop/
CATEGORIES:Storm Water Utility District
END:VEVENT
BEGIN:VEVENT
DTSTART;TZID=America/Chicago:20151012T190000
DTEND;TZID=America/Chicago:20151012T200000
DTSTAMP:20260425T163437
CREATED:20110215T010000Z
LAST-MODIFIED:20110215T010000Z
UID:10005892-1444676400-1444680000@townofneenah.com
SUMMARY:Town Board Meeting
DESCRIPTION:
URL:https://townofneenah.com/event/town-board-meeting-5/2015-10-12/
CATEGORIES:Town Board
END:VEVENT
BEGIN:VEVENT
DTSTART;TZID=America/Chicago:20151021T190000
DTEND;TZID=America/Chicago:20151021T190000
DTSTAMP:20260425T163437
CREATED:20110721T000000Z
LAST-MODIFIED:20110721T000000Z
UID:10006045-1445454000-1445454000@townofneenah.com
SUMMARY:Fire Department Training Meeting
DESCRIPTION:
URL:https://townofneenah.com/event/fire-department-training-meeting-3/2015-10-21/
CATEGORIES:Fire Department
END:VEVENT
BEGIN:VEVENT
DTSTART;TZID=America/Chicago:20151022T090000
DTEND;TZID=America/Chicago:20151022T090000
DTSTAMP:20260425T163437
CREATED:20151022T140000Z
LAST-MODIFIED:20151022T140000Z
UID:10006399-1445504400-1445504400@townofneenah.com
SUMMARY:Budget Workshop
DESCRIPTION:
URL:https://townofneenah.com/event/budget-workshop/
CATEGORIES:Town Board
END:VEVENT
END:VCALENDAR