BEGIN:VCALENDAR
VERSION:2.0
PRODID:-//Town of Neenah - ECPv6.15.17.1//NONSGML v1.0//EN
CALSCALE:GREGORIAN
METHOD:PUBLISH
X-ORIGINAL-URL:https://townofneenah.com
X-WR-CALDESC:Events for Town of Neenah
REFRESH-INTERVAL;VALUE=DURATION:PT1H
X-Robots-Tag:noindex
X-PUBLISHED-TTL:PT1H
BEGIN:VTIMEZONE
TZID:America/Chicago
BEGIN:DAYLIGHT
TZOFFSETFROM:-0600
TZOFFSETTO:-0500
TZNAME:CDT
DTSTART:20140309T080000
END:DAYLIGHT
BEGIN:STANDARD
TZOFFSETFROM:-0500
TZOFFSETTO:-0600
TZNAME:CST
DTSTART:20141102T070000
END:STANDARD
BEGIN:DAYLIGHT
TZOFFSETFROM:-0600
TZOFFSETTO:-0500
TZNAME:CDT
DTSTART:20150308T080000
END:DAYLIGHT
BEGIN:STANDARD
TZOFFSETFROM:-0500
TZOFFSETTO:-0600
TZNAME:CST
DTSTART:20151101T070000
END:STANDARD
BEGIN:DAYLIGHT
TZOFFSETFROM:-0600
TZOFFSETTO:-0500
TZNAME:CDT
DTSTART:20160313T080000
END:DAYLIGHT
BEGIN:STANDARD
TZOFFSETFROM:-0500
TZOFFSETTO:-0600
TZNAME:CST
DTSTART:20161106T070000
END:STANDARD
END:VTIMEZONE
BEGIN:VEVENT
DTSTART;TZID=America/Chicago:20151103T150000
DTEND;TZID=America/Chicago:20151103T150000
DTSTAMP:20260425T151423
CREATED:20120501T200000Z
LAST-MODIFIED:20120501T200000Z
UID:10005725-1446562800-1446562800@townofneenah.com
SUMMARY:Chairman's Zoning Meeting
DESCRIPTION:Venue: County P&Z
URL:https://townofneenah.com/event/chairmans-zoning-meeting/2015-11-03/
CATEGORIES:Town Board
END:VEVENT
BEGIN:VEVENT
DTSTART;TZID=America/Chicago:20151104T190000
DTEND;TZID=America/Chicago:20151104T190000
DTSTAMP:20260425T151423
CREATED:20130711T000000Z
LAST-MODIFIED:20130711T000000Z
UID:10006265-1446663600-1446663600@townofneenah.com
SUMMARY:Fire Department Business Meeting
DESCRIPTION:
URL:https://townofneenah.com/event/fire-department-business-meeting/2015-11-04/
CATEGORIES:Fire Department
END:VEVENT
BEGIN:VEVENT
DTSTART;TZID=America/Chicago:20151109T190000
DTEND;TZID=America/Chicago:20151109T190000
DTSTAMP:20260425T151423
CREATED:20151110T010000Z
LAST-MODIFIED:20151110T010000Z
UID:10006400-1447095600-1447095600@townofneenah.com
SUMMARY:Public Hearing and Town Elector Meeting
DESCRIPTION:
URL:https://townofneenah.com/event/public-hearing-and-town-elector-meeting/
CATEGORIES:Town Board
END:VEVENT
BEGIN:VEVENT
DTSTART;TZID=America/Chicago:20151109T190000
DTEND;TZID=America/Chicago:20151109T200000
DTSTAMP:20260425T151423
CREATED:20110215T010000Z
LAST-MODIFIED:20110215T010000Z
UID:10005893-1447095600-1447099200@townofneenah.com
SUMMARY:Town Board Meeting
DESCRIPTION:
URL:https://townofneenah.com/event/town-board-meeting-5/2015-11-09/
CATEGORIES:Town Board
END:VEVENT
BEGIN:VEVENT
DTSTART;TZID=America/Chicago:20151118T190000
DTEND;TZID=America/Chicago:20151118T190000
DTSTAMP:20260425T151423
CREATED:20110721T000000Z
LAST-MODIFIED:20110721T000000Z
UID:10006046-1447873200-1447873200@townofneenah.com
SUMMARY:Fire Department Training Meeting
DESCRIPTION:
URL:https://townofneenah.com/event/fire-department-training-meeting-3/2015-11-18/
CATEGORIES:Fire Department
END:VEVENT
BEGIN:VEVENT
DTSTART;VALUE=DATE:20151126
DTEND;VALUE=DATE:20151127
DTSTAMP:20260425T151423
CREATED:20151126T060000Z
LAST-MODIFIED:20151126T060000Z
UID:10006401-1448496000-1448582399@townofneenah.com
SUMMARY:Thanksgiving - Office Closed
DESCRIPTION:
URL:https://townofneenah.com/event/thanksgiving-office-closed/
CATEGORIES:Town Board
END:VEVENT
END:VCALENDAR