BEGIN:VCALENDAR
VERSION:2.0
PRODID:-//Town of Neenah - ECPv6.15.17.1//NONSGML v1.0//EN
CALSCALE:GREGORIAN
METHOD:PUBLISH
X-WR-CALNAME:Town of Neenah
X-ORIGINAL-URL:https://townofneenah.com
X-WR-CALDESC:Events for Town of Neenah
REFRESH-INTERVAL;VALUE=DURATION:PT1H
X-Robots-Tag:noindex
X-PUBLISHED-TTL:PT1H
BEGIN:VTIMEZONE
TZID:America/Chicago
BEGIN:DAYLIGHT
TZOFFSETFROM:-0600
TZOFFSETTO:-0500
TZNAME:CDT
DTSTART:20160313T080000
END:DAYLIGHT
BEGIN:STANDARD
TZOFFSETFROM:-0500
TZOFFSETTO:-0600
TZNAME:CST
DTSTART:20161106T070000
END:STANDARD
BEGIN:DAYLIGHT
TZOFFSETFROM:-0600
TZOFFSETTO:-0500
TZNAME:CDT
DTSTART:20170312T080000
END:DAYLIGHT
BEGIN:STANDARD
TZOFFSETFROM:-0500
TZOFFSETTO:-0600
TZNAME:CST
DTSTART:20171105T070000
END:STANDARD
BEGIN:DAYLIGHT
TZOFFSETFROM:-0600
TZOFFSETTO:-0500
TZNAME:CDT
DTSTART:20180311T080000
END:DAYLIGHT
BEGIN:STANDARD
TZOFFSETFROM:-0500
TZOFFSETTO:-0600
TZNAME:CST
DTSTART:20181104T070000
END:STANDARD
END:VTIMEZONE
BEGIN:VEVENT
DTSTART;TZID=America/Chicago:20170301T190000
DTEND;TZID=America/Chicago:20170301T190000
DTSTAMP:20260423T211946
CREATED:20130711T000000Z
LAST-MODIFIED:20130711T000000Z
UID:10006281-1488394800-1488394800@townofneenah.com
SUMMARY:Fire Department Business Meeting
DESCRIPTION:
URL:https://townofneenah.com/event/fire-department-business-meeting/2017-03-01/
CATEGORIES:Fire Department
END:VEVENT
BEGIN:VEVENT
DTSTART;TZID=America/Chicago:20170307T150000
DTEND;TZID=America/Chicago:20170307T150000
DTSTAMP:20260423T211946
CREATED:20120501T200000Z
LAST-MODIFIED:20120501T200000Z
UID:10005741-1488898800-1488898800@townofneenah.com
SUMMARY:Chairman's Zoning Meeting
DESCRIPTION:Venue: County P&Z
URL:https://townofneenah.com/event/chairmans-zoning-meeting/2017-03-07/
CATEGORIES:Town Board
END:VEVENT
BEGIN:VEVENT
DTSTART;TZID=America/Chicago:20170313T190000
DTEND;TZID=America/Chicago:20170313T200000
DTSTAMP:20260423T211946
CREATED:20110215T010000Z
LAST-MODIFIED:20110215T010000Z
UID:10005909-1489431600-1489435200@townofneenah.com
SUMMARY:Town Board Meeting
DESCRIPTION:
URL:https://townofneenah.com/event/town-board-meeting-5/2017-03-13/
CATEGORIES:Town Board
END:VEVENT
BEGIN:VEVENT
DTSTART;TZID=America/Chicago:20170315T190000
DTEND;TZID=America/Chicago:20170315T190000
DTSTAMP:20260423T211946
CREATED:20110721T000000Z
LAST-MODIFIED:20110721T000000Z
UID:10006062-1489604400-1489604400@townofneenah.com
SUMMARY:Fire Department Training Meeting
DESCRIPTION:
URL:https://townofneenah.com/event/fire-department-training-meeting-3/2017-03-15/
CATEGORIES:Fire Department
END:VEVENT
BEGIN:VEVENT
DTSTART;TZID=America/Chicago:20170316T160000
DTEND;TZID=America/Chicago:20170316T170000
DTSTAMP:20260423T211946
CREATED:20160519T210000Z
LAST-MODIFIED:20160519T210000Z
UID:10006474-1489680000-1489683600@townofneenah.com
SUMMARY:Communication Committee Meeting
DESCRIPTION:
URL:https://townofneenah.com/event/communication-committee-meeting/2017-03-16/
CATEGORIES:Communication Committee
END:VEVENT
BEGIN:VEVENT
DTSTART;TZID=America/Chicago:20170320T190000
DTEND;TZID=America/Chicago:20170320T200000
DTSTAMP:20260423T211946
CREATED:20160419T000000Z
LAST-MODIFIED:20160419T000000Z
UID:10006439-1490036400-1490040000@townofneenah.com
SUMMARY:Plan Commission Meeting
DESCRIPTION:at Town Hall
URL:https://townofneenah.com/event/plan-commission-meeting/2017-03-20/
CATEGORIES:Plan Commission
END:VEVENT
BEGIN:VEVENT
DTSTART;TZID=America/Chicago:20170323T160000
DTEND;TZID=America/Chicago:20170323T170000
DTSTAMP:20260423T211946
CREATED:20170323T210000Z
LAST-MODIFIED:20170323T210000Z
UID:10006496-1490284800-1490288400@townofneenah.com
SUMMARY:Communications Committee Meeting
DESCRIPTION:
URL:https://townofneenah.com/event/communications-committee-meeting-4/
CATEGORIES:Communication Committee
END:VEVENT
END:VCALENDAR