BEGIN:VCALENDAR
VERSION:2.0
PRODID:-//Town of Neenah - ECPv6.15.17.1//NONSGML v1.0//EN
CALSCALE:GREGORIAN
METHOD:PUBLISH
X-WR-CALNAME:Town of Neenah
X-ORIGINAL-URL:https://townofneenah.com
X-WR-CALDESC:Events for Town of Neenah
REFRESH-INTERVAL;VALUE=DURATION:PT1H
X-Robots-Tag:noindex
X-PUBLISHED-TTL:PT1H
BEGIN:VTIMEZONE
TZID:America/Chicago
BEGIN:DAYLIGHT
TZOFFSETFROM:-0600
TZOFFSETTO:-0500
TZNAME:CDT
DTSTART:20160313T080000
END:DAYLIGHT
BEGIN:STANDARD
TZOFFSETFROM:-0500
TZOFFSETTO:-0600
TZNAME:CST
DTSTART:20161106T070000
END:STANDARD
BEGIN:DAYLIGHT
TZOFFSETFROM:-0600
TZOFFSETTO:-0500
TZNAME:CDT
DTSTART:20170312T080000
END:DAYLIGHT
BEGIN:STANDARD
TZOFFSETFROM:-0500
TZOFFSETTO:-0600
TZNAME:CST
DTSTART:20171105T070000
END:STANDARD
BEGIN:DAYLIGHT
TZOFFSETFROM:-0600
TZOFFSETTO:-0500
TZNAME:CDT
DTSTART:20180311T080000
END:DAYLIGHT
BEGIN:STANDARD
TZOFFSETFROM:-0500
TZOFFSETTO:-0600
TZNAME:CST
DTSTART:20181104T070000
END:STANDARD
END:VTIMEZONE
BEGIN:VEVENT
DTSTART;TZID=America/Chicago:20170601T160000
DTEND;TZID=America/Chicago:20170601T170000
DTSTAMP:20260423T161232
CREATED:20170601T210000Z
LAST-MODIFIED:20170601T210000Z
UID:10006202-1496332800-1496336400@townofneenah.com
SUMMARY:Communications Committee Meeting
DESCRIPTION:
URL:https://townofneenah.com/event/communications-committee-meeting-2/
CATEGORIES:Communication Committee
END:VEVENT
BEGIN:VEVENT
DTSTART;TZID=America/Chicago:20170605T190000
DTEND;TZID=America/Chicago:20170605T200000
DTSTAMP:20260423T161232
CREATED:20170502T000000Z
LAST-MODIFIED:20170502T000000Z
UID:10006193-1496689200-1496692800@townofneenah.com
SUMMARY:Parks and Trails Committee Meeting
DESCRIPTION:
URL:https://townofneenah.com/event/parks-and-trails-committee-meeting-4/2017-06-05/
CATEGORIES:Park & Trails Committee
END:VEVENT
BEGIN:VEVENT
DTSTART;TZID=America/Chicago:20170606T150000
DTEND;TZID=America/Chicago:20170606T150000
DTSTAMP:20260423T161232
CREATED:20120501T200000Z
LAST-MODIFIED:20120501T200000Z
UID:10005744-1496761200-1496761200@townofneenah.com
SUMMARY:Chairman's Zoning Meeting
DESCRIPTION:Venue: County P&Z
URL:https://townofneenah.com/event/chairmans-zoning-meeting/2017-06-06/
CATEGORIES:Town Board
END:VEVENT
BEGIN:VEVENT
DTSTART;TZID=America/Chicago:20170607T190000
DTEND;TZID=America/Chicago:20170607T190000
DTSTAMP:20260423T161232
CREATED:20130711T000000Z
LAST-MODIFIED:20130711T000000Z
UID:10006284-1496862000-1496862000@townofneenah.com
SUMMARY:Fire Department Business Meeting
DESCRIPTION:
URL:https://townofneenah.com/event/fire-department-business-meeting/2017-06-07/
CATEGORIES:Fire Department
END:VEVENT
BEGIN:VEVENT
DTSTART;TZID=America/Chicago:20170612T190000
DTEND;TZID=America/Chicago:20170612T200000
DTSTAMP:20260423T161232
CREATED:20110215T010000Z
LAST-MODIFIED:20110215T010000Z
UID:10005912-1497294000-1497297600@townofneenah.com
SUMMARY:Town Board Meeting
DESCRIPTION:
URL:https://townofneenah.com/event/town-board-meeting-5/2017-06-12/
CATEGORIES:Town Board
END:VEVENT
BEGIN:VEVENT
DTSTART;TZID=America/Chicago:20170615T160000
DTEND;TZID=America/Chicago:20170615T170000
DTSTAMP:20260423T161232
CREATED:20160519T210000Z
LAST-MODIFIED:20160519T210000Z
UID:10006477-1497542400-1497546000@townofneenah.com
SUMMARY:Communication Committee Meeting
DESCRIPTION:
URL:https://townofneenah.com/event/communication-committee-meeting/2017-06-15/
CATEGORIES:Communication Committee
END:VEVENT
BEGIN:VEVENT
DTSTART;TZID=America/Chicago:20170619T190000
DTEND;TZID=America/Chicago:20170619T200000
DTSTAMP:20260423T161232
CREATED:20160419T000000Z
LAST-MODIFIED:20160419T000000Z
UID:10006442-1497898800-1497902400@townofneenah.com
SUMMARY:Plan Commission Meeting
DESCRIPTION:at Town Hall
URL:https://townofneenah.com/event/plan-commission-meeting/2017-06-19/
CATEGORIES:Plan Commission
END:VEVENT
BEGIN:VEVENT
DTSTART;TZID=America/Chicago:20170621T190000
DTEND;TZID=America/Chicago:20170621T190000
DTSTAMP:20260423T161232
CREATED:20110721T000000Z
LAST-MODIFIED:20110721T000000Z
UID:10006065-1498071600-1498071600@townofneenah.com
SUMMARY:Fire Department Training Meeting
DESCRIPTION:
URL:https://townofneenah.com/event/fire-department-training-meeting-3/2017-06-21/
CATEGORIES:Fire Department
END:VEVENT
END:VCALENDAR