BEGIN:VCALENDAR
VERSION:2.0
PRODID:-//Town of Neenah - ECPv6.15.17.1//NONSGML v1.0//EN
CALSCALE:GREGORIAN
METHOD:PUBLISH
X-ORIGINAL-URL:https://townofneenah.com
X-WR-CALDESC:Events for Town of Neenah
REFRESH-INTERVAL;VALUE=DURATION:PT1H
X-Robots-Tag:noindex
X-PUBLISHED-TTL:PT1H
BEGIN:VTIMEZONE
TZID:America/Chicago
BEGIN:DAYLIGHT
TZOFFSETFROM:-0600
TZOFFSETTO:-0500
TZNAME:CDT
DTSTART:20160313T080000
END:DAYLIGHT
BEGIN:STANDARD
TZOFFSETFROM:-0500
TZOFFSETTO:-0600
TZNAME:CST
DTSTART:20161106T070000
END:STANDARD
BEGIN:DAYLIGHT
TZOFFSETFROM:-0600
TZOFFSETTO:-0500
TZNAME:CDT
DTSTART:20170312T080000
END:DAYLIGHT
BEGIN:STANDARD
TZOFFSETFROM:-0500
TZOFFSETTO:-0600
TZNAME:CST
DTSTART:20171105T070000
END:STANDARD
BEGIN:DAYLIGHT
TZOFFSETFROM:-0600
TZOFFSETTO:-0500
TZNAME:CDT
DTSTART:20180311T080000
END:DAYLIGHT
BEGIN:STANDARD
TZOFFSETFROM:-0500
TZOFFSETTO:-0600
TZNAME:CST
DTSTART:20181104T070000
END:STANDARD
END:VTIMEZONE
BEGIN:VEVENT
DTSTART;TZID=America/Chicago:20170703T190000
DTEND;TZID=America/Chicago:20170703T200000
DTSTAMP:20260423T122208
CREATED:20170502T000000Z
LAST-MODIFIED:20170502T000000Z
UID:10006194-1499108400-1499112000@townofneenah.com
SUMMARY:Parks and Trails Committee Meeting
DESCRIPTION:
URL:https://townofneenah.com/event/parks-and-trails-committee-meeting-4/2017-07-03/
CATEGORIES:Park & Trails Committee
END:VEVENT
BEGIN:VEVENT
DTSTART;VALUE=DATE:20170704
DTEND;VALUE=DATE:20170705
DTSTAMP:20260423T122208
CREATED:20170704T050000Z
LAST-MODIFIED:20170704T050000Z
UID:10006204-1499126400-1499212799@townofneenah.com
SUMMARY:Holiday - Office Closed
DESCRIPTION:
URL:https://townofneenah.com/event/holiday-office-closed/
END:VEVENT
BEGIN:VEVENT
DTSTART;TZID=America/Chicago:20170704T150000
DTEND;TZID=America/Chicago:20170704T150000
DTSTAMP:20260423T122208
CREATED:20120501T200000Z
LAST-MODIFIED:20120501T200000Z
UID:10005745-1499180400-1499180400@townofneenah.com
SUMMARY:Chairman's Zoning Meeting
DESCRIPTION:Venue: County P&Z
URL:https://townofneenah.com/event/chairmans-zoning-meeting/2017-07-04/
CATEGORIES:Town Board
END:VEVENT
BEGIN:VEVENT
DTSTART;TZID=America/Chicago:20170705T190000
DTEND;TZID=America/Chicago:20170705T190000
DTSTAMP:20260423T122208
CREATED:20130711T000000Z
LAST-MODIFIED:20130711T000000Z
UID:10006285-1499281200-1499281200@townofneenah.com
SUMMARY:Fire Department Business Meeting
DESCRIPTION:
URL:https://townofneenah.com/event/fire-department-business-meeting/2017-07-05/
CATEGORIES:Fire Department
END:VEVENT
BEGIN:VEVENT
DTSTART;TZID=America/Chicago:20170710T190000
DTEND;TZID=America/Chicago:20170710T200000
DTSTAMP:20260423T122208
CREATED:20110215T010000Z
LAST-MODIFIED:20110215T010000Z
UID:10005913-1499713200-1499716800@townofneenah.com
SUMMARY:Town Board Meeting
DESCRIPTION:
URL:https://townofneenah.com/event/town-board-meeting-5/2017-07-10/
CATEGORIES:Town Board
END:VEVENT
BEGIN:VEVENT
DTSTART;TZID=America/Chicago:20170712T190000
DTEND;TZID=America/Chicago:20170712T200000
DTSTAMP:20260423T122208
CREATED:20170713T000000Z
LAST-MODIFIED:20170713T000000Z
UID:10006206-1499886000-1499889600@townofneenah.com
SUMMARY:Parks and Trails Committee Meeting
DESCRIPTION:
URL:https://townofneenah.com/event/parks-and-trails-committee-meeting-3/
CATEGORIES:Park & Trails Committee
END:VEVENT
BEGIN:VEVENT
DTSTART;TZID=America/Chicago:20170717T190000
DTEND;TZID=America/Chicago:20170717T200000
DTSTAMP:20260423T122208
CREATED:20160419T000000Z
LAST-MODIFIED:20160419T000000Z
UID:10006443-1500318000-1500321600@townofneenah.com
SUMMARY:Plan Commission Meeting
DESCRIPTION:at Town Hall
URL:https://townofneenah.com/event/plan-commission-meeting/2017-07-17/
CATEGORIES:Plan Commission
END:VEVENT
BEGIN:VEVENT
DTSTART;TZID=America/Chicago:20170719T190000
DTEND;TZID=America/Chicago:20170719T190000
DTSTAMP:20260423T122208
CREATED:20110721T000000Z
LAST-MODIFIED:20110721T000000Z
UID:10006066-1500490800-1500490800@townofneenah.com
SUMMARY:Fire Department Training Meeting
DESCRIPTION:
URL:https://townofneenah.com/event/fire-department-training-meeting-3/2017-07-19/
CATEGORIES:Fire Department
END:VEVENT
BEGIN:VEVENT
DTSTART;TZID=America/Chicago:20170720T160000
DTEND;TZID=America/Chicago:20170720T170000
DTSTAMP:20260423T122208
CREATED:20160519T210000Z
LAST-MODIFIED:20160519T210000Z
UID:10006478-1500566400-1500570000@townofneenah.com
SUMMARY:Communication Committee Meeting
DESCRIPTION:
URL:https://townofneenah.com/event/communication-committee-meeting/2017-07-20/
CATEGORIES:Communication Committee
END:VEVENT
END:VCALENDAR