BEGIN:VCALENDAR
VERSION:2.0
PRODID:-//Town of Neenah - ECPv6.15.17.1//NONSGML v1.0//EN
CALSCALE:GREGORIAN
METHOD:PUBLISH
X-ORIGINAL-URL:https://townofneenah.com
X-WR-CALDESC:Events for Town of Neenah
REFRESH-INTERVAL;VALUE=DURATION:PT1H
X-Robots-Tag:noindex
X-PUBLISHED-TTL:PT1H
BEGIN:VTIMEZONE
TZID:America/Chicago
BEGIN:DAYLIGHT
TZOFFSETFROM:-0600
TZOFFSETTO:-0500
TZNAME:CDT
DTSTART:20160313T080000
END:DAYLIGHT
BEGIN:STANDARD
TZOFFSETFROM:-0500
TZOFFSETTO:-0600
TZNAME:CST
DTSTART:20161106T070000
END:STANDARD
BEGIN:DAYLIGHT
TZOFFSETFROM:-0600
TZOFFSETTO:-0500
TZNAME:CDT
DTSTART:20170312T080000
END:DAYLIGHT
BEGIN:STANDARD
TZOFFSETFROM:-0500
TZOFFSETTO:-0600
TZNAME:CST
DTSTART:20171105T070000
END:STANDARD
BEGIN:DAYLIGHT
TZOFFSETFROM:-0600
TZOFFSETTO:-0500
TZNAME:CDT
DTSTART:20180311T080000
END:DAYLIGHT
BEGIN:STANDARD
TZOFFSETFROM:-0500
TZOFFSETTO:-0600
TZNAME:CST
DTSTART:20181104T070000
END:STANDARD
END:VTIMEZONE
BEGIN:VEVENT
DTSTART;TZID=America/Chicago:20170801T150000
DTEND;TZID=America/Chicago:20170801T150000
DTSTAMP:20260423T122208
CREATED:20120501T200000Z
LAST-MODIFIED:20120501T200000Z
UID:10005746-1501599600-1501599600@townofneenah.com
SUMMARY:Chairman's Zoning Meeting
DESCRIPTION:Venue: County P&Z
URL:https://townofneenah.com/event/chairmans-zoning-meeting/2017-08-01/
CATEGORIES:Town Board
END:VEVENT
BEGIN:VEVENT
DTSTART;TZID=America/Chicago:20170802T190000
DTEND;TZID=America/Chicago:20170802T190000
DTSTAMP:20260423T122208
CREATED:20130711T000000Z
LAST-MODIFIED:20130711T000000Z
UID:10006286-1501700400-1501700400@townofneenah.com
SUMMARY:Fire Department Business Meeting
DESCRIPTION:
URL:https://townofneenah.com/event/fire-department-business-meeting/2017-08-02/
CATEGORIES:Fire Department
END:VEVENT
BEGIN:VEVENT
DTSTART;TZID=America/Chicago:20170807T190000
DTEND;TZID=America/Chicago:20170807T200000
DTSTAMP:20260423T122208
CREATED:20170502T000000Z
LAST-MODIFIED:20170502T000000Z
UID:10006195-1502132400-1502136000@townofneenah.com
SUMMARY:Parks and Trails Committee Meeting
DESCRIPTION:
URL:https://townofneenah.com/event/parks-and-trails-committee-meeting-4/2017-08-07/
CATEGORIES:Park & Trails Committee
END:VEVENT
BEGIN:VEVENT
DTSTART;TZID=America/Chicago:20170814T190000
DTEND;TZID=America/Chicago:20170814T200000
DTSTAMP:20260423T122209
CREATED:20110215T010000Z
LAST-MODIFIED:20110215T010000Z
UID:10005914-1502737200-1502740800@townofneenah.com
SUMMARY:Town Board Meeting
DESCRIPTION:
URL:https://townofneenah.com/event/town-board-meeting-5/2017-08-14/
CATEGORIES:Town Board
END:VEVENT
BEGIN:VEVENT
DTSTART;TZID=America/Chicago:20170816T190000
DTEND;TZID=America/Chicago:20170816T190000
DTSTAMP:20260423T122209
CREATED:20110721T000000Z
LAST-MODIFIED:20110721T000000Z
UID:10006067-1502910000-1502910000@townofneenah.com
SUMMARY:Fire Department Training Meeting
DESCRIPTION:
URL:https://townofneenah.com/event/fire-department-training-meeting-3/2017-08-16/
CATEGORIES:Fire Department
END:VEVENT
BEGIN:VEVENT
DTSTART;TZID=America/Chicago:20170817T160000
DTEND;TZID=America/Chicago:20170817T170000
DTSTAMP:20260423T122209
CREATED:20160519T210000Z
LAST-MODIFIED:20160519T210000Z
UID:10006479-1502985600-1502989200@townofneenah.com
SUMMARY:Communication Committee Meeting
DESCRIPTION:
URL:https://townofneenah.com/event/communication-committee-meeting/2017-08-17/
CATEGORIES:Communication Committee
END:VEVENT
BEGIN:VEVENT
DTSTART;TZID=America/Chicago:20170821T190000
DTEND;TZID=America/Chicago:20170821T200000
DTSTAMP:20260423T122209
CREATED:20160419T000000Z
LAST-MODIFIED:20160419T000000Z
UID:10006444-1503342000-1503345600@townofneenah.com
SUMMARY:Plan Commission Meeting
DESCRIPTION:at Town Hall
URL:https://townofneenah.com/event/plan-commission-meeting/2017-08-21/
CATEGORIES:Plan Commission
END:VEVENT
END:VCALENDAR