BEGIN:VCALENDAR
VERSION:2.0
PRODID:-//Town of Neenah - ECPv6.15.17.1//NONSGML v1.0//EN
CALSCALE:GREGORIAN
METHOD:PUBLISH
X-WR-CALNAME:Town of Neenah
X-ORIGINAL-URL:https://townofneenah.com
X-WR-CALDESC:Events for Town of Neenah
REFRESH-INTERVAL;VALUE=DURATION:PT1H
X-Robots-Tag:noindex
X-PUBLISHED-TTL:PT1H
BEGIN:VTIMEZONE
TZID:America/Chicago
BEGIN:DAYLIGHT
TZOFFSETFROM:-0600
TZOFFSETTO:-0500
TZNAME:CDT
DTSTART:20160313T080000
END:DAYLIGHT
BEGIN:STANDARD
TZOFFSETFROM:-0500
TZOFFSETTO:-0600
TZNAME:CST
DTSTART:20161106T070000
END:STANDARD
BEGIN:DAYLIGHT
TZOFFSETFROM:-0600
TZOFFSETTO:-0500
TZNAME:CDT
DTSTART:20170312T080000
END:DAYLIGHT
BEGIN:STANDARD
TZOFFSETFROM:-0500
TZOFFSETTO:-0600
TZNAME:CST
DTSTART:20171105T070000
END:STANDARD
BEGIN:DAYLIGHT
TZOFFSETFROM:-0600
TZOFFSETTO:-0500
TZNAME:CDT
DTSTART:20180311T080000
END:DAYLIGHT
BEGIN:STANDARD
TZOFFSETFROM:-0500
TZOFFSETTO:-0600
TZNAME:CST
DTSTART:20181104T070000
END:STANDARD
END:VTIMEZONE
BEGIN:VEVENT
DTSTART;TZID=America/Chicago:20170904T190000
DTEND;TZID=America/Chicago:20170904T200000
DTSTAMP:20260423T095607
CREATED:20170502T000000Z
LAST-MODIFIED:20170502T000000Z
UID:10006196-1504551600-1504555200@townofneenah.com
SUMMARY:Parks and Trails Committee Meeting
DESCRIPTION:
URL:https://townofneenah.com/event/parks-and-trails-committee-meeting-4/2017-09-04/
CATEGORIES:Park & Trails Committee
END:VEVENT
BEGIN:VEVENT
DTSTART;TZID=America/Chicago:20170905T150000
DTEND;TZID=America/Chicago:20170905T150000
DTSTAMP:20260423T095607
CREATED:20120501T200000Z
LAST-MODIFIED:20120501T200000Z
UID:10005747-1504623600-1504623600@townofneenah.com
SUMMARY:Chairman's Zoning Meeting
DESCRIPTION:Venue: County P&Z
URL:https://townofneenah.com/event/chairmans-zoning-meeting/2017-09-05/
CATEGORIES:Town Board
END:VEVENT
BEGIN:VEVENT
DTSTART;TZID=America/Chicago:20170906T190000
DTEND;TZID=America/Chicago:20170906T190000
DTSTAMP:20260423T095607
CREATED:20130711T000000Z
LAST-MODIFIED:20130711T000000Z
UID:10006287-1504724400-1504724400@townofneenah.com
SUMMARY:Fire Department Business Meeting
DESCRIPTION:
URL:https://townofneenah.com/event/fire-department-business-meeting/2017-09-06/
CATEGORIES:Fire Department
END:VEVENT
BEGIN:VEVENT
DTSTART;TZID=America/Chicago:20170911T190000
DTEND;TZID=America/Chicago:20170911T200000
DTSTAMP:20260423T095607
CREATED:20110215T010000Z
LAST-MODIFIED:20110215T010000Z
UID:10005915-1505156400-1505160000@townofneenah.com
SUMMARY:Town Board Meeting
DESCRIPTION:
URL:https://townofneenah.com/event/town-board-meeting-5/2017-09-11/
CATEGORIES:Town Board
END:VEVENT
BEGIN:VEVENT
DTSTART;TZID=America/Chicago:20170918T190000
DTEND;TZID=America/Chicago:20170918T200000
DTSTAMP:20260423T095607
CREATED:20160419T000000Z
LAST-MODIFIED:20160419T000000Z
UID:10006445-1505761200-1505764800@townofneenah.com
SUMMARY:Plan Commission Meeting
DESCRIPTION:at Town Hall
URL:https://townofneenah.com/event/plan-commission-meeting/2017-09-18/
CATEGORIES:Plan Commission
END:VEVENT
BEGIN:VEVENT
DTSTART;TZID=America/Chicago:20170920T190000
DTEND;TZID=America/Chicago:20170920T190000
DTSTAMP:20260423T095607
CREATED:20110721T000000Z
LAST-MODIFIED:20110721T000000Z
UID:10006068-1505934000-1505934000@townofneenah.com
SUMMARY:Fire Department Training Meeting
DESCRIPTION:
URL:https://townofneenah.com/event/fire-department-training-meeting-3/2017-09-20/
CATEGORIES:Fire Department
END:VEVENT
END:VCALENDAR