BEGIN:VCALENDAR
VERSION:2.0
PRODID:-//Town of Neenah - ECPv6.15.17.1//NONSGML v1.0//EN
CALSCALE:GREGORIAN
METHOD:PUBLISH
X-ORIGINAL-URL:https://townofneenah.com
X-WR-CALDESC:Events for Town of Neenah
REFRESH-INTERVAL;VALUE=DURATION:PT1H
X-Robots-Tag:noindex
X-PUBLISHED-TTL:PT1H
BEGIN:VTIMEZONE
TZID:America/Chicago
BEGIN:DAYLIGHT
TZOFFSETFROM:-0600
TZOFFSETTO:-0500
TZNAME:CDT
DTSTART:20160313T080000
END:DAYLIGHT
BEGIN:STANDARD
TZOFFSETFROM:-0500
TZOFFSETTO:-0600
TZNAME:CST
DTSTART:20161106T070000
END:STANDARD
BEGIN:DAYLIGHT
TZOFFSETFROM:-0600
TZOFFSETTO:-0500
TZNAME:CDT
DTSTART:20170312T080000
END:DAYLIGHT
BEGIN:STANDARD
TZOFFSETFROM:-0500
TZOFFSETTO:-0600
TZNAME:CST
DTSTART:20171105T070000
END:STANDARD
BEGIN:DAYLIGHT
TZOFFSETFROM:-0600
TZOFFSETTO:-0500
TZNAME:CDT
DTSTART:20180311T080000
END:DAYLIGHT
BEGIN:STANDARD
TZOFFSETFROM:-0500
TZOFFSETTO:-0600
TZNAME:CST
DTSTART:20181104T070000
END:STANDARD
END:VTIMEZONE
BEGIN:VEVENT
DTSTART;TZID=America/Chicago:20171002T190000
DTEND;TZID=America/Chicago:20171002T200000
DTSTAMP:20260423T084057
CREATED:20170502T000000Z
LAST-MODIFIED:20170502T000000Z
UID:10006197-1506970800-1506974400@townofneenah.com
SUMMARY:Parks and Trails Committee Meeting
DESCRIPTION:
URL:https://townofneenah.com/event/parks-and-trails-committee-meeting-4/2017-10-02/
CATEGORIES:Park & Trails Committee
END:VEVENT
BEGIN:VEVENT
DTSTART;TZID=America/Chicago:20171003T150000
DTEND;TZID=America/Chicago:20171003T150000
DTSTAMP:20260423T084057
CREATED:20120501T200000Z
LAST-MODIFIED:20120501T200000Z
UID:10005748-1507042800-1507042800@townofneenah.com
SUMMARY:Chairman's Zoning Meeting
DESCRIPTION:Venue: County P&Z
URL:https://townofneenah.com/event/chairmans-zoning-meeting/2017-10-03/
CATEGORIES:Town Board
END:VEVENT
BEGIN:VEVENT
DTSTART;TZID=America/Chicago:20171004T190000
DTEND;TZID=America/Chicago:20171004T190000
DTSTAMP:20260423T084057
CREATED:20130711T000000Z
LAST-MODIFIED:20130711T000000Z
UID:10006288-1507143600-1507143600@townofneenah.com
SUMMARY:Fire Department Business Meeting
DESCRIPTION:
URL:https://townofneenah.com/event/fire-department-business-meeting/2017-10-04/
CATEGORIES:Fire Department
END:VEVENT
BEGIN:VEVENT
DTSTART;TZID=America/Chicago:20171009T190000
DTEND;TZID=America/Chicago:20171009T200000
DTSTAMP:20260423T084057
CREATED:20110215T010000Z
LAST-MODIFIED:20110215T010000Z
UID:10005916-1507575600-1507579200@townofneenah.com
SUMMARY:Town Board Meeting
DESCRIPTION:
URL:https://townofneenah.com/event/town-board-meeting-5/2017-10-09/
CATEGORIES:Town Board
END:VEVENT
BEGIN:VEVENT
DTSTART;TZID=America/Chicago:20171016T190000
DTEND;TZID=America/Chicago:20171016T200000
DTSTAMP:20260423T084057
CREATED:20160419T000000Z
LAST-MODIFIED:20160419T000000Z
UID:10006446-1508180400-1508184000@townofneenah.com
SUMMARY:Plan Commission Meeting
DESCRIPTION:at Town Hall
URL:https://townofneenah.com/event/plan-commission-meeting/2017-10-16/
CATEGORIES:Plan Commission
END:VEVENT
BEGIN:VEVENT
DTSTART;TZID=America/Chicago:20171018T190000
DTEND;TZID=America/Chicago:20171018T190000
DTSTAMP:20260423T084057
CREATED:20110721T000000Z
LAST-MODIFIED:20110721T000000Z
UID:10006069-1508353200-1508353200@townofneenah.com
SUMMARY:Fire Department Training Meeting
DESCRIPTION:
URL:https://townofneenah.com/event/fire-department-training-meeting-3/2017-10-18/
CATEGORIES:Fire Department
END:VEVENT
END:VCALENDAR