BEGIN:VCALENDAR
VERSION:2.0
PRODID:-//Town of Neenah - ECPv6.15.17.1//NONSGML v1.0//EN
CALSCALE:GREGORIAN
METHOD:PUBLISH
X-ORIGINAL-URL:https://townofneenah.com
X-WR-CALDESC:Events for Town of Neenah
REFRESH-INTERVAL;VALUE=DURATION:PT1H
X-Robots-Tag:noindex
X-PUBLISHED-TTL:PT1H
BEGIN:VTIMEZONE
TZID:America/Chicago
BEGIN:DAYLIGHT
TZOFFSETFROM:-0600
TZOFFSETTO:-0500
TZNAME:CDT
DTSTART:20170312T080000
END:DAYLIGHT
BEGIN:STANDARD
TZOFFSETFROM:-0500
TZOFFSETTO:-0600
TZNAME:CST
DTSTART:20171105T070000
END:STANDARD
BEGIN:DAYLIGHT
TZOFFSETFROM:-0600
TZOFFSETTO:-0500
TZNAME:CDT
DTSTART:20180311T080000
END:DAYLIGHT
BEGIN:STANDARD
TZOFFSETFROM:-0500
TZOFFSETTO:-0600
TZNAME:CST
DTSTART:20181104T070000
END:STANDARD
BEGIN:DAYLIGHT
TZOFFSETFROM:-0600
TZOFFSETTO:-0500
TZNAME:CDT
DTSTART:20190310T080000
END:DAYLIGHT
BEGIN:STANDARD
TZOFFSETFROM:-0500
TZOFFSETTO:-0600
TZNAME:CST
DTSTART:20191103T070000
END:STANDARD
END:VTIMEZONE
BEGIN:VEVENT
DTSTART;TZID=America/Chicago:20180402T190000
DTEND;TZID=America/Chicago:20180402T200000
DTSTAMP:20260422T031301
CREATED:20180328T133043Z
LAST-MODIFIED:20180328T133043Z
UID:10006212-1522695600-1522699200@townofneenah.com
SUMMARY:Parks and Trails Committee Meeting
DESCRIPTION:
URL:https://townofneenah.com/event/parks-and-trails-committee-meeting-2/
CATEGORIES:Park & Trails Committee
END:VEVENT
BEGIN:VEVENT
DTSTART;VALUE=DATE:20180403
DTEND;VALUE=DATE:20180404
DTSTAMP:20260422T031301
CREATED:20180313T205056Z
LAST-MODIFIED:20180313T205056Z
UID:10006208-1522713600-1522799999@townofneenah.com
SUMMARY:Spring Election 7AM - 8PM
DESCRIPTION:
URL:https://townofneenah.com/event/spring-election-7am-8pm/
CATEGORIES:Election
END:VEVENT
BEGIN:VEVENT
DTSTART;TZID=America/Chicago:20180403T150000
DTEND;TZID=America/Chicago:20180403T150000
DTSTAMP:20260422T031301
CREATED:20120501T200000Z
LAST-MODIFIED:20120501T200000Z
UID:10005754-1522767600-1522767600@townofneenah.com
SUMMARY:Chairman's Zoning Meeting
DESCRIPTION:Venue: County P&Z
URL:https://townofneenah.com/event/chairmans-zoning-meeting/2018-04-03/
CATEGORIES:Town Board
END:VEVENT
BEGIN:VEVENT
DTSTART;TZID=America/Chicago:20180404T190000
DTEND;TZID=America/Chicago:20180404T190000
DTSTAMP:20260422T031301
CREATED:20130711T000000Z
LAST-MODIFIED:20130711T000000Z
UID:10006294-1522868400-1522868400@townofneenah.com
SUMMARY:Fire Department Business Meeting
DESCRIPTION:
URL:https://townofneenah.com/event/fire-department-business-meeting/2018-04-04/
CATEGORIES:Fire Department
END:VEVENT
BEGIN:VEVENT
DTSTART;TZID=America/Chicago:20180407T090000
DTEND;TZID=America/Chicago:20180407T130000
DTSTAMP:20260422T031301
CREATED:20180313T205251Z
LAST-MODIFIED:20180313T205251Z
UID:10006210-1523091600-1523106000@townofneenah.com
SUMMARY:Fire Department Open House
DESCRIPTION:
URL:https://townofneenah.com/event/fire-department-open-house/
CATEGORIES:Fire Department
END:VEVENT
BEGIN:VEVENT
DTSTART;TZID=America/Chicago:20180409T190000
DTEND;TZID=America/Chicago:20180409T200000
DTSTAMP:20260422T031301
CREATED:20110215T010000Z
LAST-MODIFIED:20110215T010000Z
UID:10005922-1523300400-1523304000@townofneenah.com
SUMMARY:Town Board Meeting
DESCRIPTION:
URL:https://townofneenah.com/event/town-board-meeting-5/2018-04-09/
CATEGORIES:Town Board
END:VEVENT
BEGIN:VEVENT
DTSTART;TZID=America/Chicago:20180416T190000
DTEND;TZID=America/Chicago:20180416T200000
DTSTAMP:20260422T031301
CREATED:20160419T000000Z
LAST-MODIFIED:20160419T000000Z
UID:10006452-1523905200-1523908800@townofneenah.com
SUMMARY:Plan Commission Meeting
DESCRIPTION:at Town Hall
URL:https://townofneenah.com/event/plan-commission-meeting/2018-04-16/
CATEGORIES:Plan Commission
END:VEVENT
BEGIN:VEVENT
DTSTART;TZID=America/Chicago:20180418T190000
DTEND;TZID=America/Chicago:20180418T190000
DTSTAMP:20260422T031301
CREATED:20110721T000000Z
LAST-MODIFIED:20110721T000000Z
UID:10006075-1524078000-1524078000@townofneenah.com
SUMMARY:Fire Department Training Meeting
DESCRIPTION:
URL:https://townofneenah.com/event/fire-department-training-meeting-3/2018-04-18/
CATEGORIES:Fire Department
END:VEVENT
BEGIN:VEVENT
DTSTART;TZID=America/Chicago:20180418T190000
DTEND;TZID=America/Chicago:20180418T200000
DTSTAMP:20260422T031301
CREATED:20170419T000000Z
LAST-MODIFIED:20170419T000000Z
UID:10006498-1524078000-1524081600@townofneenah.com
SUMMARY:Town of Neenah Annual Meeting
DESCRIPTION:
URL:https://townofneenah.com/event/town-of-neenah-annual-meeting/2018-04-18/
CATEGORIES:Town Board
END:VEVENT
END:VCALENDAR