BEGIN:VCALENDAR
VERSION:2.0
PRODID:-//Town of Neenah - ECPv6.15.17.1//NONSGML v1.0//EN
CALSCALE:GREGORIAN
METHOD:PUBLISH
X-WR-CALNAME:Town of Neenah
X-ORIGINAL-URL:https://townofneenah.com
X-WR-CALDESC:Events for Town of Neenah
REFRESH-INTERVAL;VALUE=DURATION:PT1H
X-Robots-Tag:noindex
X-PUBLISHED-TTL:PT1H
BEGIN:VTIMEZONE
TZID:America/Chicago
BEGIN:DAYLIGHT
TZOFFSETFROM:-0600
TZOFFSETTO:-0500
TZNAME:CDT
DTSTART:20170312T080000
END:DAYLIGHT
BEGIN:STANDARD
TZOFFSETFROM:-0500
TZOFFSETTO:-0600
TZNAME:CST
DTSTART:20171105T070000
END:STANDARD
BEGIN:DAYLIGHT
TZOFFSETFROM:-0600
TZOFFSETTO:-0500
TZNAME:CDT
DTSTART:20180311T080000
END:DAYLIGHT
BEGIN:STANDARD
TZOFFSETFROM:-0500
TZOFFSETTO:-0600
TZNAME:CST
DTSTART:20181104T070000
END:STANDARD
BEGIN:DAYLIGHT
TZOFFSETFROM:-0600
TZOFFSETTO:-0500
TZNAME:CDT
DTSTART:20190310T080000
END:DAYLIGHT
BEGIN:STANDARD
TZOFFSETFROM:-0500
TZOFFSETTO:-0600
TZNAME:CST
DTSTART:20191103T070000
END:STANDARD
END:VTIMEZONE
BEGIN:VEVENT
DTSTART;TZID=America/Chicago:20180501T150000
DTEND;TZID=America/Chicago:20180501T150000
DTSTAMP:20260421T133522
CREATED:20120501T200000Z
LAST-MODIFIED:20120501T200000Z
UID:10005755-1525186800-1525186800@townofneenah.com
SUMMARY:Chairman's Zoning Meeting
DESCRIPTION:Venue: County P&Z
URL:https://townofneenah.com/event/chairmans-zoning-meeting/2018-05-01/
CATEGORIES:Town Board
END:VEVENT
BEGIN:VEVENT
DTSTART;TZID=America/Chicago:20180502T190000
DTEND;TZID=America/Chicago:20180502T190000
DTSTAMP:20260421T133522
CREATED:20130711T000000Z
LAST-MODIFIED:20130711T000000Z
UID:10006295-1525287600-1525287600@townofneenah.com
SUMMARY:Fire Department Business Meeting
DESCRIPTION:
URL:https://townofneenah.com/event/fire-department-business-meeting/2018-05-02/
CATEGORIES:Fire Department
END:VEVENT
BEGIN:VEVENT
DTSTART;TZID=America/Chicago:20180514T190000
DTEND;TZID=America/Chicago:20180514T200000
DTSTAMP:20260421T133522
CREATED:20110215T010000Z
LAST-MODIFIED:20110215T010000Z
UID:10005923-1526324400-1526328000@townofneenah.com
SUMMARY:Town Board Meeting
DESCRIPTION:
URL:https://townofneenah.com/event/town-board-meeting-5/2018-05-14/
CATEGORIES:Town Board
END:VEVENT
BEGIN:VEVENT
DTSTART;TZID=America/Chicago:20180516T190000
DTEND;TZID=America/Chicago:20180516T190000
DTSTAMP:20260421T133522
CREATED:20110721T000000Z
LAST-MODIFIED:20110721T000000Z
UID:10006076-1526497200-1526497200@townofneenah.com
SUMMARY:Fire Department Training Meeting
DESCRIPTION:
URL:https://townofneenah.com/event/fire-department-training-meeting-3/2018-05-16/
CATEGORIES:Fire Department
END:VEVENT
BEGIN:VEVENT
DTSTART;TZID=America/Chicago:20180521T190000
DTEND;TZID=America/Chicago:20180521T200000
DTSTAMP:20260421T133522
CREATED:20160419T000000Z
LAST-MODIFIED:20160419T000000Z
UID:10006453-1526929200-1526932800@townofneenah.com
SUMMARY:Plan Commission Meeting
DESCRIPTION:at Town Hall
URL:https://townofneenah.com/event/plan-commission-meeting/2018-05-21/
CATEGORIES:Plan Commission
END:VEVENT
BEGIN:VEVENT
DTSTART;VALUE=DATE:20180528
DTEND;VALUE=DATE:20180529
DTSTAMP:20260421T133522
CREATED:20180515T112154Z
LAST-MODIFIED:20180515T112154Z
UID:10006502-1527465600-1527551999@townofneenah.com
SUMMARY:Memorial Day Holiday - Town Board Meeting Postponed
DESCRIPTION:Town Board meeting for Monday May 28\, 2018 has been postponed and rescheduled for Wednesday May 30\, 2018 at 7:00 pm. \n  \n 
URL:https://townofneenah.com/event/memorial-day-holiday-town-board-meeting-postponed/
CATEGORIES:Town Board
END:VEVENT
BEGIN:VEVENT
DTSTART;TZID=America/Chicago:20180530T190000
DTEND;TZID=America/Chicago:20180530T200000
DTSTAMP:20260421T133522
CREATED:20180515T112349Z
LAST-MODIFIED:20180515T112349Z
UID:10006503-1527706800-1527710400@townofneenah.com
SUMMARY:Town Board Meeting Wednesday May 30\, 2018
DESCRIPTION:Town Board meeting rescheduled due to Memorial Day Holiday. \n 
URL:https://townofneenah.com/event/town-board-meeting-wednesday-may-30-2018/
CATEGORIES:Town Board
END:VEVENT
END:VCALENDAR