BEGIN:VCALENDAR
VERSION:2.0
PRODID:-//Town of Neenah - ECPv6.15.17.1//NONSGML v1.0//EN
CALSCALE:GREGORIAN
METHOD:PUBLISH
X-ORIGINAL-URL:https://townofneenah.com
X-WR-CALDESC:Events for Town of Neenah
REFRESH-INTERVAL;VALUE=DURATION:PT1H
X-Robots-Tag:noindex
X-PUBLISHED-TTL:PT1H
BEGIN:VTIMEZONE
TZID:America/Chicago
BEGIN:DAYLIGHT
TZOFFSETFROM:-0600
TZOFFSETTO:-0500
TZNAME:CDT
DTSTART:20190310T080000
END:DAYLIGHT
BEGIN:STANDARD
TZOFFSETFROM:-0500
TZOFFSETTO:-0600
TZNAME:CST
DTSTART:20191103T070000
END:STANDARD
BEGIN:DAYLIGHT
TZOFFSETFROM:-0600
TZOFFSETTO:-0500
TZNAME:CDT
DTSTART:20200308T080000
END:DAYLIGHT
BEGIN:STANDARD
TZOFFSETFROM:-0500
TZOFFSETTO:-0600
TZNAME:CST
DTSTART:20201101T070000
END:STANDARD
BEGIN:DAYLIGHT
TZOFFSETFROM:-0600
TZOFFSETTO:-0500
TZNAME:CDT
DTSTART:20210314T080000
END:DAYLIGHT
BEGIN:STANDARD
TZOFFSETFROM:-0500
TZOFFSETTO:-0600
TZNAME:CST
DTSTART:20211107T070000
END:STANDARD
END:VTIMEZONE
BEGIN:VEVENT
DTSTART;TZID=America/Chicago:20200804T150000
DTEND;TZID=America/Chicago:20200804T150000
DTSTAMP:20260419T101049
CREATED:20120501T200000Z
LAST-MODIFIED:20120501T200000Z
UID:10005782-1596553200-1596553200@townofneenah.com
SUMMARY:Chairman's Zoning Meeting
DESCRIPTION:Venue: County P&Z
URL:https://townofneenah.com/event/chairmans-zoning-meeting/2020-08-04/
CATEGORIES:Town Board
END:VEVENT
BEGIN:VEVENT
DTSTART;TZID=America/Chicago:20200805T190000
DTEND;TZID=America/Chicago:20200805T190000
DTSTAMP:20260419T101049
CREATED:20130711T000000Z
LAST-MODIFIED:20130711T000000Z
UID:10006322-1596654000-1596654000@townofneenah.com
SUMMARY:Fire Department Business Meeting
DESCRIPTION:
URL:https://townofneenah.com/event/fire-department-business-meeting/2020-08-05/
CATEGORIES:Fire Department
END:VEVENT
BEGIN:VEVENT
DTSTART;TZID=America/Chicago:20200810T190000
DTEND;TZID=America/Chicago:20200810T200000
DTSTAMP:20260419T101049
CREATED:20110215T010000Z
LAST-MODIFIED:20110215T010000Z
UID:10005950-1597086000-1597089600@townofneenah.com
SUMMARY:Town Board Meeting
DESCRIPTION:
URL:https://townofneenah.com/event/town-board-meeting-5-2020-08-10/
CATEGORIES:Town Board
END:VEVENT
BEGIN:VEVENT
DTSTART;TZID=America/Chicago:20200811T070000
DTEND;TZID=America/Chicago:20200811T200000
DTSTAMP:20260419T101049
CREATED:20200808T160620Z
LAST-MODIFIED:20200808T160639Z
UID:10006548-1597129200-1597176000@townofneenah.com
SUMMARY:Partisan Primary Election
DESCRIPTION:  \nPolls Open 7:00 AM – 8:00 pm  \nVisit MyVote.wi.gov to view What’s on My Ballot  
URL:https://townofneenah.com/event/partisan-primary-election/
CATEGORIES:Election
END:VEVENT
BEGIN:VEVENT
DTSTART;TZID=America/Chicago:20200813T190000
DTEND;TZID=America/Chicago:20200813T200000
DTSTAMP:20260419T101049
CREATED:20110511T000000Z
LAST-MODIFIED:20200820T214316Z
UID:10005981-1597345200-1597348800@townofneenah.com
SUMMARY:San District 2
DESCRIPTION:8-13-2020 Agenda SD 2
URL:https://townofneenah.com/event/san-district-2-3-2020-08-13/
CATEGORIES:San District 2
END:VEVENT
BEGIN:VEVENT
DTSTART;TZID=America/Chicago:20200817T190000
DTEND;TZID=America/Chicago:20200817T200000
DTSTAMP:20260419T101049
CREATED:20200810T150913Z
LAST-MODIFIED:20200813T213636Z
UID:10006551-1597690800-1597694400@townofneenah.com
SUMMARY:Plan Commission
DESCRIPTION:https://townofneenah.com/wp-content/uploads/2020/08/Plan-Commission-Agenda-8-17-20.1.pdf
URL:https://townofneenah.com/event/plan-commission-4/
CATEGORIES:Plan Commission
END:VEVENT
BEGIN:VEVENT
DTSTART;TZID=America/Chicago:20200819T190000
DTEND;TZID=America/Chicago:20200819T190000
DTSTAMP:20260419T101049
CREATED:20110721T000000Z
LAST-MODIFIED:20110721T000000Z
UID:10006103-1597863600-1597863600@townofneenah.com
SUMMARY:Fire Department Training Meeting
DESCRIPTION:
URL:https://townofneenah.com/event/fire-department-training-meeting-3/2020-08-19/
CATEGORIES:Fire Department
END:VEVENT
BEGIN:VEVENT
DTSTART;TZID=America/Chicago:20200824T190000
DTEND;TZID=America/Chicago:20200824T200000
DTSTAMP:20260419T101049
CREATED:20200810T150306Z
LAST-MODIFIED:20210108T173357Z
UID:10006549-1598295600-1598299200@townofneenah.com
SUMMARY:Town Board Meeting
DESCRIPTION:https://townofneenah.com/wp-content/uploads/2020/08/8-24-2020-Packet.pdf
URL:https://townofneenah.com/event/town-board-meeting-7/2020-08-24/
CATEGORIES:Town Board
END:VEVENT
BEGIN:VEVENT
DTSTART;TZID=America/Chicago:20200824T192800
DTEND;TZID=America/Chicago:20200824T200000
DTSTAMP:20260419T101049
CREATED:20200822T141248Z
LAST-MODIFIED:20200822T141248Z
UID:10006663-1598297280-1598299200@townofneenah.com
SUMMARY:Board of Review - Meet to Adjourn
DESCRIPTION:https://townofneenah.com/wp-content/uploads/2020/08/8-24-2020-Notice-of-Meeting-to-Adjourn-the-Board-of-Review.pdf
URL:https://townofneenah.com/event/board-of-review-meet-to-adjourn/
END:VEVENT
BEGIN:VEVENT
DTSTART;TZID=America/Chicago:20200831T180000
DTEND;TZID=America/Chicago:20200831T190000
DTSTAMP:20260419T101049
CREATED:20200810T152319Z
LAST-MODIFIED:20200810T152319Z
UID:10006661-1598896800-1598900400@townofneenah.com
SUMMARY:Parks & Trails Committee Meeting
DESCRIPTION:
URL:https://townofneenah.com/event/parks-trails-committee-meeting/
CATEGORIES:Park & Trails Committee
END:VEVENT
END:VCALENDAR