BEGIN:VCALENDAR
VERSION:2.0
PRODID:-//Town of Neenah - ECPv6.15.17.1//NONSGML v1.0//EN
CALSCALE:GREGORIAN
METHOD:PUBLISH
X-WR-CALNAME:Town of Neenah
X-ORIGINAL-URL:https://townofneenah.com
X-WR-CALDESC:Events for Town of Neenah
REFRESH-INTERVAL;VALUE=DURATION:PT1H
X-Robots-Tag:noindex
X-PUBLISHED-TTL:PT1H
BEGIN:VTIMEZONE
TZID:America/Chicago
BEGIN:DAYLIGHT
TZOFFSETFROM:-0600
TZOFFSETTO:-0500
TZNAME:CDT
DTSTART:20190310T080000
END:DAYLIGHT
BEGIN:STANDARD
TZOFFSETFROM:-0500
TZOFFSETTO:-0600
TZNAME:CST
DTSTART:20191103T070000
END:STANDARD
BEGIN:DAYLIGHT
TZOFFSETFROM:-0600
TZOFFSETTO:-0500
TZNAME:CDT
DTSTART:20200308T080000
END:DAYLIGHT
BEGIN:STANDARD
TZOFFSETFROM:-0500
TZOFFSETTO:-0600
TZNAME:CST
DTSTART:20201101T070000
END:STANDARD
BEGIN:DAYLIGHT
TZOFFSETFROM:-0600
TZOFFSETTO:-0500
TZNAME:CDT
DTSTART:20210314T080000
END:DAYLIGHT
BEGIN:STANDARD
TZOFFSETFROM:-0500
TZOFFSETTO:-0600
TZNAME:CST
DTSTART:20211107T070000
END:STANDARD
END:VTIMEZONE
BEGIN:VEVENT
DTSTART;TZID=America/Chicago:20200901T090000
DTEND;TZID=America/Chicago:20200901T180000
DTSTAMP:20260419T073121
CREATED:20200810T151732Z
LAST-MODIFIED:20200810T151848Z
UID:10006658-1598950800-1598983200@townofneenah.com
SUMMARY:Open Book
DESCRIPTION:
URL:https://townofneenah.com/event/open-book-7/
END:VEVENT
BEGIN:VEVENT
DTSTART;TZID=America/Chicago:20200902T190000
DTEND;TZID=America/Chicago:20200902T200000
DTSTAMP:20260419T073121
CREATED:20200810T152127Z
LAST-MODIFIED:20210304T185130Z
UID:10006660-1599073200-1599076800@townofneenah.com
SUMMARY:Fire Department Business Meeting
DESCRIPTION:https://townofneenah.com/wp-content/uploads/2020/08/9-2-2020-Business-Mtg.pdf
URL:https://townofneenah.com/event/fire-department-business-meeting-2/
CATEGORIES:Fire Department
END:VEVENT
BEGIN:VEVENT
DTSTART;TZID=America/Chicago:20200915T130000
DTEND;TZID=America/Chicago:20200915T150000
DTSTAMP:20260419T073121
CREATED:20200810T151815Z
LAST-MODIFIED:20200822T141325Z
UID:10006659-1600174800-1600182000@townofneenah.com
SUMMARY:Board of Review
DESCRIPTION:https://townofneenah.com/wp-content/uploads/2020/08/Board-of-Review-Notice-2020pubish.pdf
URL:https://townofneenah.com/event/board-of-review-7/
END:VEVENT
BEGIN:VEVENT
DTSTART;TZID=America/Chicago:20200921T190000
DTEND;TZID=America/Chicago:20200921T200000
DTSTAMP:20260419T073121
CREATED:20200916T181335Z
LAST-MODIFIED:20200916T181611Z
UID:10006670-1600714800-1600718400@townofneenah.com
SUMMARY:Public Hearing
DESCRIPTION:Notice of Public Hearing \nZoom Link 
URL:https://townofneenah.com/event/public-hearing-6/
CATEGORIES:Plan Commission
END:VEVENT
BEGIN:VEVENT
DTSTART;TZID=America/Chicago:20200921T190100
DTEND;TZID=America/Chicago:20200921T200000
DTSTAMP:20260419T073121
CREATED:20200916T183841Z
LAST-MODIFIED:20200916T183841Z
UID:10006671-1600714860-1600718400@townofneenah.com
SUMMARY:Plan Commission Meeting
DESCRIPTION:
URL:https://townofneenah.com/event/plan-commission-meeting-2/
CATEGORIES:Plan Commission
END:VEVENT
BEGIN:VEVENT
DTSTART;TZID=America/Chicago:20200923T173000
DTEND;TZID=America/Chicago:20200923T183000
DTSTAMP:20260419T073121
CREATED:20200831T205905Z
LAST-MODIFIED:20200831T205905Z
UID:10006669-1600882200-1600885800@townofneenah.com
SUMMARY:Communication Committee Meeting
DESCRIPTION:
URL:https://townofneenah.com/event/communication-committee-meeting-2/
CATEGORIES:Communication Committee
END:VEVENT
BEGIN:VEVENT
DTSTART;TZID=America/Chicago:20200924T183000
DTEND;TZID=America/Chicago:20200924T193000
DTSTAMP:20260419T073121
CREATED:20200820T213702Z
LAST-MODIFIED:20200820T213702Z
UID:10006662-1600972200-1600975800@townofneenah.com
SUMMARY:Sanitary District #2 Budget Workshop #1
DESCRIPTION:
URL:https://townofneenah.com/event/sanitary-district-2-budget-workshop-1/
CATEGORIES:San District 2
END:VEVENT
BEGIN:VEVENT
DTSTART;TZID=America/Chicago:20200928T190000
DTEND;TZID=America/Chicago:20200928T200000
DTSTAMP:20260419T073121
CREATED:20200924T194918Z
LAST-MODIFIED:20200924T194918Z
UID:10006672-1601319600-1601323200@townofneenah.com
SUMMARY:Town Board Meeting  9-28-2020
DESCRIPTION:https://townofneenah.com/wp-content/uploads/2020/09/9-28-2020-Town-Agenda.pdf \nZoom Link https://us02web.zoom.us/j/86709360902?pwd=Z1lDdzN6cGlva2NiV2wvRnBmVHkrUT09
URL:https://townofneenah.com/event/town-board-meeting-9-28-2020/
CATEGORIES:Town Board
END:VEVENT
END:VCALENDAR