BEGIN:VCALENDAR
VERSION:2.0
PRODID:-//Town of Neenah - ECPv6.15.17.1//NONSGML v1.0//EN
CALSCALE:GREGORIAN
METHOD:PUBLISH
X-WR-CALNAME:Town of Neenah
X-ORIGINAL-URL:https://townofneenah.com
X-WR-CALDESC:Events for Town of Neenah
REFRESH-INTERVAL;VALUE=DURATION:PT1H
X-Robots-Tag:noindex
X-PUBLISHED-TTL:PT1H
BEGIN:VTIMEZONE
TZID:America/Chicago
BEGIN:DAYLIGHT
TZOFFSETFROM:-0600
TZOFFSETTO:-0500
TZNAME:CDT
DTSTART:20240310T080000
END:DAYLIGHT
BEGIN:STANDARD
TZOFFSETFROM:-0500
TZOFFSETTO:-0600
TZNAME:CST
DTSTART:20241103T070000
END:STANDARD
BEGIN:DAYLIGHT
TZOFFSETFROM:-0600
TZOFFSETTO:-0500
TZNAME:CDT
DTSTART:20250309T080000
END:DAYLIGHT
BEGIN:STANDARD
TZOFFSETFROM:-0500
TZOFFSETTO:-0600
TZNAME:CST
DTSTART:20251102T070000
END:STANDARD
BEGIN:DAYLIGHT
TZOFFSETFROM:-0600
TZOFFSETTO:-0500
TZNAME:CDT
DTSTART:20260308T080000
END:DAYLIGHT
BEGIN:STANDARD
TZOFFSETFROM:-0500
TZOFFSETTO:-0600
TZNAME:CST
DTSTART:20261101T070000
END:STANDARD
END:VTIMEZONE
BEGIN:VEVENT
DTSTART;TZID=America/Chicago:20250702T180000
DTEND;TZID=America/Chicago:20250702T180000
DTSTAMP:20260419T190519
CREATED:20250630T165628Z
LAST-MODIFIED:20250630T165628Z
UID:10008169-1751479200-1751479200@townofneenah.com
SUMMARY:Fire Department Meeting 7-2-2025
DESCRIPTION:  \nAgenda: \n 
URL:https://townofneenah.com/event/fire-department-meeting-7-2-2025-2/
CATEGORIES:Fire Department
END:VEVENT
BEGIN:VEVENT
DTSTART;TZID=America/Chicago:20250707T180000
DTEND;TZID=America/Chicago:20250707T180000
DTSTAMP:20260419T190519
CREATED:20250624T185916Z
LAST-MODIFIED:20250701T192457Z
UID:10008162-1751911200-1751911200@townofneenah.com
SUMMARY:Parks and Trails Meeting 7-7-2025
DESCRIPTION:Agenda:  \nPacket:  \nMinutes:  \n 
URL:https://townofneenah.com/event/parks-and-trails-meeting-7-7-2025/
CATEGORIES:Park & Trails Committee
END:VEVENT
BEGIN:VEVENT
DTSTART;TZID=America/Chicago:20250708T190000
DTEND;TZID=America/Chicago:20250708T190000
DTSTAMP:20260419T190519
CREATED:20250630T185849Z
LAST-MODIFIED:20250703T170621Z
UID:10008170-1752001200-1752001200@townofneenah.com
SUMMARY:Sanitary District #2 Meeting 7-8-2025
DESCRIPTION:Agenda:  \nPacket: 
URL:https://townofneenah.com/event/sanitary-district-2-meeting-7-8-2025/
CATEGORIES:San District 2
END:VEVENT
BEGIN:VEVENT
DTSTART;TZID=America/Chicago:20250714T190000
DTEND;TZID=America/Chicago:20250714T190000
DTSTAMP:20260419T190519
CREATED:20250619T181757Z
LAST-MODIFIED:20250714T165212Z
UID:10008142-1752519600-1752519600@townofneenah.com
SUMMARY:Town Board Meeting 7-14-2025
DESCRIPTION:Agenda \nPacket  \nZoom Link:  https://us02web.zoom.us/j/82171640678?pwd=EgH8ZiI4HEPVIwUPxxd1D3VEw90LtD.1 \nMeeting ID:  821 7164 0678 \nPasscode:  047741 \nPhone:  (312) 626-6799 
URL:https://townofneenah.com/event/town-board-meeting-7-14-2025/
CATEGORIES:Town Board
END:VEVENT
BEGIN:VEVENT
DTSTART;TZID=America/Chicago:20250721T190000
DTEND;TZID=America/Chicago:20250721T190000
DTSTAMP:20260419T190519
CREATED:20250626T204339Z
LAST-MODIFIED:20250721T214916Z
UID:10008167-1753124400-1753124400@townofneenah.com
SUMMARY:Plan Commission Meeting 7-21-2025
DESCRIPTION:Agenda \nPacket \nZoom Link:  https://us02web.zoom.us/j/88632762905?pwd=FggUedJxbumQevhErrSuw1Wa44KCKn.1 \nMeeting ID:  886 3276 2905  \nPasscode: 326192 \nPhone:  312 626 6799 US  \n  \n 
URL:https://townofneenah.com/event/plan-commission-meeting-6/
CATEGORIES:Plan Commission
END:VEVENT
BEGIN:VEVENT
DTSTART;TZID=America/Chicago:20250728T190000
DTEND;TZID=America/Chicago:20250728T190000
DTSTAMP:20260419T190519
CREATED:20250619T181923Z
LAST-MODIFIED:20250728T023611Z
UID:10008143-1753729200-1753729200@townofneenah.com
SUMMARY:Town Board Meeting 7-28-2025
DESCRIPTION:Agenda \nPacket  \nZoom Link:  https://us02web.zoom.us/j/89706583474?pwd=WrR95rmTGbOcXTEKkWfMiq8uN2hmHb.1 \nMeeting ID: 897 0658 3474 \nPasscode: 352110 \nPhone:  (312) 626-6799 
URL:https://townofneenah.com/event/town-board-meeting-7-28-2025/
CATEGORIES:Town Board
END:VEVENT
END:VCALENDAR